BEGIN:VCALENDAR
VERSION:2.0
PRODID:-//eventon.com NONSGML v1.0//EN
BEGIN:VEVENT
UID:69e73690127cb
DTSTAMP:20260421T083424
DTSTART:20220918T120000Z
DTEND:20220918T215000Z
TZID:Europe/Berlin
LOCATION:Opernhaus Zürich Sechseläutenplatz 1\,  8008 Zürich\,  SWITZERLAND
SUMMARY:Die Walküre
DESCRIPTION: Die Walküre\nhttps://camillanylund.com/events/die-walkure-2022-09/
URL:https://camillanylund.com/events/die-walkure-2022-09/
END:VEVENT
END:VCALENDAR