BEGIN:VCALENDAR
VERSION:2.0
PRODID:-//eventon.com NONSGML v1.0//EN
BEGIN:VEVENT
UID:69e73c4006405
DTSTAMP:20260421T085840
DTSTART:20221123T160000Z
DTEND:20221123T225000Z
TZID:Europe/Berlin
LOCATION:Wiener Staatsoper A Opernring 2\,  1010 Wien\,  AUSTRIA
SUMMARY:Tosca
DESCRIPTION: \nhttps://camillanylund.com/events/tosca/
URL:https://camillanylund.com/events/tosca/
END:VEVENT
END:VCALENDAR