BEGIN:VCALENDAR
VERSION:2.0
PRODID:-//eventon.com NONSGML v1.0//EN
BEGIN:VEVENT
UID:69e73b9e73273
DTSTAMP:20260421T085558
DTSTART:20221215T190000Z
DTEND:20221215T225000Z
TZID:Europe/Berlin
LOCATION:Philharmonie Berlin Herbert-von-Karajan-Str. 1
SUMMARY:Wagner\,  Strauss and Pfitzner  Concert
DESCRIPTION: Wagner\,  Strauss and Pfitzner  Concert\nhttps://camillanylund.com/events/wagner-strauss-and-pfitznerconcert/
URL:https://camillanylund.com/events/wagner-strauss-and-pfitznerconcert/
END:VEVENT
END:VCALENDAR