BEGIN:VCALENDAR
VERSION:2.0
PRODID:-//eventon.com NONSGML v1.0//EN
BEGIN:VEVENT
UID:69e73dad77472
DTSTAMP:20260421T090445
DTSTART:20230305T150000Z
DTEND:20230305T225000Z
TZID:Europe/Berlin
LOCATION:Opernhaus Zürich Sechseläutenplatz 1\,  8008 Zürich\,  SWITZERLAND
SUMMARY:Siegfried
DESCRIPTION: Siegfried\nhttps://camillanylund.com/events/siegfried-zuerich-2022/
URL:https://camillanylund.com/events/siegfried-zuerich-2022/
END:VEVENT
END:VCALENDAR