BEGIN:VCALENDAR
VERSION:2.0
PRODID:-//eventon.com NONSGML v1.0//EN
BEGIN:VEVENT
UID:69e4de1cab022
DTSTAMP:20260419T135228
DTSTART:20230727T163000Z
DTEND:20230727T215000Z
TZID:Europe/Berlin
LOCATION:Salle des Combins\,  Verbier Chemin de Plan Pra
SUMMARY:Wozzeck
DESCRIPTION: Wozzeck\nhttps://camillanylund.com/events/wozzeck/
URL:https://camillanylund.com/events/wozzeck/
END:VEVENT
END:VCALENDAR