BEGIN:VCALENDAR
VERSION:2.0
PRODID:-//eventon.com NONSGML v1.0//EN
BEGIN:VEVENT
UID:69e4da580c366
DTSTAMP:20260419T133624
DTSTART:20231209T160000Z
DTEND:20231209T225000Z
TZID:Europe/Berlin
LOCATION:Wiener Staatsoper A Opernring 2\,  1010 Wien\,  AUSTRIA
SUMMARY:Elektra
DESCRIPTION: \nhttps://camillanylund.com/events/elektra-wiener-staatsoper-2023/
URL:https://camillanylund.com/events/elektra-wiener-staatsoper-2023/
END:VEVENT
END:VCALENDAR