BEGIN:VCALENDAR
VERSION:2.0
PRODID:-//eventon.com NONSGML v1.0//EN
BEGIN:VEVENT
UID:69e73ad8c3b57
DTSTAMP:20260421T085240
DTSTART:20240417T173000Z
DTEND:20240417T215000Z
TZID:Europe/Berlin
LOCATION:Musikverein Graz Sparkassenplatz 3
SUMMARY:Liederabend
DESCRIPTION: \nhttps://camillanylund.com/events/liederabend/
URL:https://camillanylund.com/events/liederabend/
END:VEVENT
END:VCALENDAR