BEGIN:VCALENDAR
VERSION:2.0
PRODID:-//eventon.com NONSGML v1.0//EN
BEGIN:VEVENT
UID:69e4dc1b7c725
DTSTAMP:20260419T134355
DTSTART:20221008T120000Z
DTEND:20221008T215000Z
TZID:Europe/Berlin
LOCATION:Opernhaus Zürich Sechseläutenplatz 1\,  8008 Zürich\,  SWITZERLAND
SUMMARY:Die Walküre
DESCRIPTION: Die Walküre\nhttps://camillanylund.com/events/die-walkure-copy/
URL:https://camillanylund.com/events/die-walkure-copy/
END:VEVENT
END:VCALENDAR