BEGIN:VCALENDAR
VERSION:2.0
PRODID:-//eventon.com NONSGML v1.0//EN
BEGIN:VEVENT
UID:69e4a9bfa43a1
DTSTAMP:20260419T100903
DTSTART:20240602T090000Z
DTEND:20240602T215000Z
TZID:Europe/Berlin
LOCATION:Garmisch Partenkirchen Richard Strauss Platz 1
SUMMARY:Richard Strauss Tage
DESCRIPTION: \nhttps://camillanylund.com/events/richard-strauss-tage/
URL:https://camillanylund.com/events/richard-strauss-tage/
END:VEVENT
END:VCALENDAR