BEGIN:VCALENDAR
VERSION:2.0
PRODID:-//eventon.com NONSGML v1.0//EN
BEGIN:VEVENT
UID:69e74b78a93af
DTSTAMP:20260421T100336
DTSTART:20241005T140000Z
DTEND:20241005T215000Z
TZID:Europe/Berlin
LOCATION:Deutsche Oper Berlin Bismarckstraße 35
SUMMARY:Tannhäuser und der Sängerkrieg auf Wartburg
DESCRIPTION: Tannhäuser und der Sängerkrieg auf Wartburg\nhttps://camillanylund.com/events/tannhauser-und-der-sangerkrieg-auf-wartburg-berlin-2024/
URL:https://camillanylund.com/events/tannhauser-und-der-sangerkrieg-auf-wartburg-berlin-2024/
END:VEVENT
END:VCALENDAR