BEGIN:VCALENDAR
VERSION:2.0
PRODID:-//eventon.com NONSGML v1.0//EN
BEGIN:VEVENT
UID:69e736e704fe6
DTSTAMP:20260421T083551
DTSTART:20241027T150000Z
DTEND:20241027T225000Z
TZID:Europe/Berlin
LOCATION:Staatsoper Unter den Linden Berlin Unter den Linden 7\,  10117 Berlin\,  GERMANY
SUMMARY:Die Frau ohne Schatten
DESCRIPTION: \nhttps://camillanylund.com/events/die-frau-ohne-schatten-berlin-2024/
URL:https://camillanylund.com/events/die-frau-ohne-schatten-berlin-2024/
END:VEVENT
END:VCALENDAR