BEGIN:VCALENDAR
VERSION:2.0
PRODID:-//eventon.com NONSGML v1.0//EN
BEGIN:VEVENT
UID:69e4a9c0415b2
DTSTAMP:20260419T100904
DTSTART:20241121T180000Z
DTEND:20241121T225000Z
TZID:Europe/Berlin
LOCATION:Opernhaus Zürich Sechseläutenplatz 1\,  8008 Zürich\,  SWITZERLAND
SUMMARY:Der fliegende Holländer
DESCRIPTION: \nhttps://camillanylund.com/events/der-fliegende-hollander-zuerich-2024/
URL:https://camillanylund.com/events/der-fliegende-hollander-zuerich-2024/
END:VEVENT
END:VCALENDAR