BEGIN:VCALENDAR
VERSION:2.0
PRODID:-//eventon.com NONSGML v1.0//EN
BEGIN:VEVENT
UID:69e4a9bf41cb7
DTSTAMP:20260419T100903
DTSTART:20241231T183000Z
DTEND:20241231T225000Z
TZID:Europe/Berlin
LOCATION:Grand Théâtre de Genève Boulevard du Théâtre 11
SUMMARY:New Year Concert
DESCRIPTION: New Year Concert\nhttps://camillanylund.com/events/new-year-concert-2024-2025-geneva/
URL:https://camillanylund.com/events/new-year-concert-2024-2025-geneva/
END:VEVENT
END:VCALENDAR