BEGIN:VCALENDAR
VERSION:2.0
PRODID:-//eventon.com NONSGML v1.0//EN
BEGIN:VEVENT
UID:69e73dad2a9df
DTSTAMP:20260421T090445
DTSTART:20250322T170000Z
DTEND:20250322T225000Z
TZID:Europe/Berlin
LOCATION:Deutsche Oper Berlin Bismarckstraße 35
SUMMARY:Elektra
DESCRIPTION: \nhttps://camillanylund.com/events/elektra_berlin_2025/
URL:https://camillanylund.com/events/elektra_berlin_2025/
END:VEVENT
END:VCALENDAR