BEGIN:VCALENDAR
VERSION:2.0
PRODID:-//eventon.com NONSGML v1.0//EN
BEGIN:VEVENT
UID:69e4da44133b4
DTSTAMP:20260419T133604
DTSTART:20250507T173000Z
DTEND:20250507T215000Z
TZID:Europe/Berlin
LOCATION:Elbphilharmonie Hamburg Am Kaiserkai
SUMMARY:Liederabend
DESCRIPTION: \nhttps://camillanylund.com/events/liederabend_hamburg_2025/
URL:https://camillanylund.com/events/liederabend_hamburg_2025/
END:VEVENT
END:VCALENDAR