BEGIN:VCALENDAR
VERSION:2.0
PRODID:-//eventon.com NONSGML v1.0//EN
BEGIN:VEVENT
UID:69e73ab1bdab1
DTSTAMP:20260421T085201
DTSTART:20250705T170000Z
DTEND:20250705T215000Z
TZID:Europe/Berlin
LOCATION:Opernhaus Zürich Sechseläutenplatz 1\,  8008 Zürich\,  SWITZERLAND
SUMMARY:Galakonzert
DESCRIPTION: \nhttps://camillanylund.com/events/galakonzert_zurich_2025/
URL:https://camillanylund.com/events/galakonzert_zurich_2025/
END:VEVENT
END:VCALENDAR