BEGIN:VCALENDAR
VERSION:2.0
PRODID:-//eventon.com NONSGML v1.0//EN
BEGIN:VEVENT
UID:69e4db5398e65
DTSTAMP:20260419T134035
DTSTART:20251214T180000Z
DTEND:20251214T225000Z
TZID:Europe/Berlin
LOCATION:Wiener Staatsoper A Opernring 2\,  1010 Wien\,  AUSTRIA
SUMMARY:Elektra
DESCRIPTION: \nhttps://camillanylund.com/events/elektra-wiener-staatsoper-2025/
URL:https://camillanylund.com/events/elektra-wiener-staatsoper-2025/
END:VEVENT
END:VCALENDAR