BEGIN:VCALENDAR
VERSION:2.0
PRODID:-//eventon.com NONSGML v1.0//EN
BEGIN:VEVENT
UID:69e4c421ea228
DTSTAMP:20260419T120137
DTSTART:20260201T170000Z
DTEND:20260201T225000Z
TZID:Europe/Berlin
LOCATION:Teatro alla Scala Via Filodrammatici 2\,  20121 Milano\,  ITALY
SUMMARY:Götterdämmerung
DESCRIPTION: \nhttps://camillanylund.com/events/gotterdammerung-teatro-alla-scala-2026/
URL:https://camillanylund.com/events/gotterdammerung-teatro-alla-scala-2026/
END:VEVENT
END:VCALENDAR