BEGIN:VCALENDAR
VERSION:2.0
PRODID:-//eventon.com NONSGML v1.0//EN
BEGIN:VEVENT
UID:69e4dc5e03585
DTSTAMP:20260419T134502
DTSTART:20260303T170000Z
DTEND:20260303T225000Z
TZID:Europe/Berlin
LOCATION:Teatro alla Scala Via Filodrammatici 2\,  20121 Milano\,  ITALY
SUMMARY:Der Ring des Nibelungen / Walküre
DESCRIPTION: \nhttps://camillanylund.com/events/der-ring-des-nibelungen-teatro-alla-scala-2026/
URL:https://camillanylund.com/events/der-ring-des-nibelungen-teatro-alla-scala-2026/
END:VEVENT
END:VCALENDAR