BEGIN:VCALENDAR
VERSION:2.0
PRODID:-//eventon.com NONSGML v1.0//EN
BEGIN:VEVENT
UID:69e7543a83636
DTSTAMP:20260421T104058
DTSTART:20260407T163000Z
DTEND:20260407T215000Z
TZID:Europe/Berlin
LOCATION:Spring Festival in Tokyo 
SUMMARY:Der Fliegende Holländer (Senta)
DESCRIPTION: \nhttps://camillanylund.com/events/der-fliegende-hollander-senta-tokyo-2026/var/ri-1.l-L1
URL:https://camillanylund.com/events/der-fliegende-hollander-senta-tokyo-2026/var/ri-1.l-L1
END:VEVENT
END:VCALENDAR