BEGIN:VCALENDAR
VERSION:2.0
PRODID:-//eventon.com NONSGML v1.0//EN
BEGIN:VEVENT
UID:69e4e0d828557
DTSTAMP:20260419T140408
DTSTART:20260712T170000Z
DTEND:20260712T215000Z
TZID:Europe/Berlin
LOCATION:Bayerische Staatsoper Max-Joseph-Platz 2
SUMMARY:Fidelio
DESCRIPTION: Fidelio\nhttps://camillanylund.com/events/fidelio/
URL:https://camillanylund.com/events/fidelio/
END:VEVENT
END:VCALENDAR