BEGIN:VCALENDAR
VERSION:2.0
PRODID:-//eventon.com NONSGML v1.0//EN
BEGIN:VEVENT
UID:69e73c6d7a681
DTSTAMP:20260421T085925
DTSTART:20220424T090000Z
DTEND:20220424T215000Z
TZID:Europe/Berlin
LOCATION:Dresdner Philharmonie Schloßstraße 2
SUMMARY:Janowski dirigiert Wagner
DESCRIPTION: Janowski dirigiert Wagner\nhttps://camillanylund.com/events/janowski-dirigiert-wagner/
URL:https://camillanylund.com/events/janowski-dirigiert-wagner/
END:VEVENT
END:VCALENDAR