BEGIN:VCALENDAR
VERSION:2.0
PRODID:-//eventon.com NONSGML v1.0//EN
BEGIN:VEVENT
UID:69e73a84726b6
DTSTAMP:20260421T085116
DTSTART:20220430T133000Z
DTEND:20220430T215000Z
TZID:Europe/Berlin
LOCATION:Musikverein\,  Großer Saal\,  Wien Bösendorferstraße 12
SUMMARY:Concert with Wiener Philharmoniker
DESCRIPTION: Concert with Wiener Philharmoniker\nhttps://camillanylund.com/events/concert-with-wiener-philharmoniker/
URL:https://camillanylund.com/events/concert-with-wiener-philharmoniker/
END:VEVENT
END:VCALENDAR